BEGIN:VCALENDAR
VERSION:2.0
PRODID:-//FabLab MDesign - ECPv6.15.20//NONSGML v1.0//EN
CALSCALE:GREGORIAN
METHOD:PUBLISH
X-ORIGINAL-URL:https://mdesign.fr
X-WR-CALDESC:Évènements pour FabLab MDesign
REFRESH-INTERVAL;VALUE=DURATION:PT1H
X-Robots-Tag:noindex
X-PUBLISHED-TTL:PT1H
BEGIN:VTIMEZONE
TZID:Europe/Paris
BEGIN:DAYLIGHT
TZOFFSETFROM:+0100
TZOFFSETTO:+0200
TZNAME:CEST
DTSTART:20240331T010000
END:DAYLIGHT
BEGIN:STANDARD
TZOFFSETFROM:+0200
TZOFFSETTO:+0100
TZNAME:CET
DTSTART:20241027T010000
END:STANDARD
BEGIN:DAYLIGHT
TZOFFSETFROM:+0100
TZOFFSETTO:+0200
TZNAME:CEST
DTSTART:20250330T010000
END:DAYLIGHT
BEGIN:STANDARD
TZOFFSETFROM:+0200
TZOFFSETTO:+0100
TZNAME:CET
DTSTART:20251026T010000
END:STANDARD
BEGIN:DAYLIGHT
TZOFFSETFROM:+0100
TZOFFSETTO:+0200
TZNAME:CEST
DTSTART:20260329T010000
END:DAYLIGHT
BEGIN:STANDARD
TZOFFSETFROM:+0200
TZOFFSETTO:+0100
TZNAME:CET
DTSTART:20261025T010000
END:STANDARD
END:VTIMEZONE
BEGIN:VEVENT
DTSTART;TZID=Europe/Paris:20251017T170000
DTEND;TZID=Europe/Paris:20251017T200000
DTSTAMP:20260425T053236
CREATED:20250707T193640Z
LAST-MODIFIED:20251115T215605Z
UID:6160-1760720400-1760731200@mdesign.fr
SUMMARY:Repair café - Octobre 2025 - Marly
DESCRIPTION:L’Eco FabLab MDesign est le premier Repair Café du Grand Est ! Depuis septembre 2014\, notre engagement pour la préservation de l’environnement s’exprime à travers cette activité de réparation participative\, où chacun peut venir avec un objet à réparer\, pour se faire aider ou pour aider les autres.\n\nVous avez des objets que vous souhaitez préserver ? Vous voulez partager vos compétences techniques avec d’autres ?\n\nVenez nous rencontrer lors de notre Repair Café mensuel gratuit\, organisé un vendredi chaque mois (la date est annoncée sur notre site et notre page Facebook).\n\nVous trouverez ici les articles consacrés à nos derniers Repair Cafés\, ainsi que l’annonce des prochaines dates. À bientôt !
URL:https://mdesign.fr/event/repair-cafe-octobre-2025/
LOCATION:Centre Socio Culturel Gilbert Jansem – Marly\, 54 Rue de la Croix Saint-Joseph\, Marly\, Moselle\, 57155\, France
CATEGORIES:Repair café
ATTACH;FMTTYPE=image/jpeg:https://mdesign.fr/wp-content/uploads/2025/06/repair_cafe_banner.jpg
ORGANIZER;CN="Fablab MDesign":MAILTO:mail@mdesign.fr
END:VEVENT
END:VCALENDAR